BEGIN:VCALENDAR
VERSION:2.0
PRODID:-//Rose of Tralee - ECPv6.15.20//NONSGML v1.0//EN
CALSCALE:GREGORIAN
METHOD:PUBLISH
X-ORIGINAL-URL:https://roseoftralee.ie
X-WR-CALDESC:Events for Rose of Tralee
REFRESH-INTERVAL;VALUE=DURATION:PT1H
X-Robots-Tag:noindex
X-PUBLISHED-TTL:PT1H
BEGIN:VTIMEZONE
TZID:UTC
BEGIN:STANDARD
TZOFFSETFROM:+0000
TZOFFSETTO:+0000
TZNAME:UTC
DTSTART:20230101T000000
END:STANDARD
END:VTIMEZONE
BEGIN:VTIMEZONE
TZID:Europe/Dublin
BEGIN:STANDARD
TZOFFSETFROM:+0000
TZOFFSETTO:+0100
TZNAME:IST
DTSTART:20230326T010000
END:STANDARD
BEGIN:DAYLIGHT
TZOFFSETFROM:+0100
TZOFFSETTO:+0000
TZNAME:GMT
DTSTART:20231029T010000
END:DAYLIGHT
BEGIN:STANDARD
TZOFFSETFROM:+0000
TZOFFSETTO:+0100
TZNAME:IST
DTSTART:20240331T010000
END:STANDARD
BEGIN:DAYLIGHT
TZOFFSETFROM:+0100
TZOFFSETTO:+0000
TZNAME:GMT
DTSTART:20241027T010000
END:DAYLIGHT
BEGIN:STANDARD
TZOFFSETFROM:+0000
TZOFFSETTO:+0100
TZNAME:IST
DTSTART:20250330T010000
END:STANDARD
BEGIN:DAYLIGHT
TZOFFSETFROM:+0100
TZOFFSETTO:+0000
TZNAME:GMT
DTSTART:20251026T010000
END:DAYLIGHT
END:VTIMEZONE
BEGIN:VEVENT
DTSTART;TZID=UTC:20240820T190000
DTEND;TZID=UTC:20240820T233000
DTSTAMP:20260422T001126
CREATED:20230504T170221Z
LAST-MODIFIED:20240728T162616Z
UID:1737-1724180400-1724196600@roseoftralee.ie
SUMMARY:Rose of Tralee Selection Night - Tuesday
DESCRIPTION:Dáithí Ó Sé and Kathryn Thomas will return to the Dome to present the 2024 Rose of Tralee selection live on TV this August 19th and 20th. Tickets for the 2024 Rose of Tralee International Festival Selection Nights are now on sale. \nVariety is the spice of life and the Dome audiences will this year be treated to live music and entertainment (and a few surprises to boot)\, as our International Roses and their Rose Escorts take to the stage for an energy-filled night to remember. \nFamilies\, supporters of the Roses and Rose Escorts\, locals and visitors\, young and old\, are encouraged to come along to the TV selections to experience the fun\, excitement and electric atmosphere as the Roses take to the stage.
URL:https://roseoftralee.ie/event/selection-night-tuesday/
LOCATION:Kerry Sports Academy
CATEGORIES:Events,Festival,Rose Dome
ATTACH;FMTTYPE=image/jpeg:https://roseoftralee.ie/wp-content/uploads/2023/08/ROSE-WINNER-4-scaled.jpg
END:VEVENT
BEGIN:VEVENT
DTSTART;TZID=Europe/Dublin:20240819T190000
DTEND;TZID=Europe/Dublin:20240819T233000
DTSTAMP:20260422T001126
CREATED:20230504T170331Z
LAST-MODIFIED:20240728T162840Z
UID:1739-1724094000-1724110200@roseoftralee.ie
SUMMARY:Rose of Tralee Selection Night - Monday
DESCRIPTION:Dáithí Ó Sé and Kathryn Thomas return to the Dome to present the 2024 Rose of Tralee selection live on TV this August 19th and 20th. \nVariety is the spice of life and the Dome audiences will this year be treated to live music and entertainment (and a few surprises to boot)\, as our International Roses and their Rose Escorts take to the stage for an energy-filled night to remember. Families\, supporters of the Roses and Rose Escorts\, locals and visitors\, young and old\, are encouraged to come along to the TV selections to experience the fun\, excitement and electric atmosphere as the Roses take to the stage with Dáithí Ó Sé live on RTÉ Television
URL:https://roseoftralee.ie/event/selection-night-monday-2023/
LOCATION:Kerry Sports Academy
CATEGORIES:Events,Festival,Rose Dome
ATTACH;FMTTYPE=image/jpeg:https://roseoftralee.ie/wp-content/uploads/2023/08/Rose-Daithi-and-Kathryn-TV-1-scaled.jpg
END:VEVENT
END:VCALENDAR